Package: esetVis Version: 1.18.0 Command: chmod a+r esetVis -R && C:\Users\biocbuild\bbs-3.13-bioc\R\bin\R.exe CMD build --keep-empty-dirs --no-resave-data esetVis StartedAt: 2021-10-14 14:00:02 -0400 (Thu, 14 Oct 2021) EndedAt: 2021-10-14 14:05:29 -0400 (Thu, 14 Oct 2021) EllapsedTime: 327.1 seconds RetCode: 0 Status: OK PackageFile: esetVis_1.18.0.tar.gz PackageFileSize: 1.493 MiB