Package: esetVis Version: 1.18.0 Command: C:\Users\biocbuild\bbs-3.13-bioc\R\bin\R.exe CMD check --force-multiarch --install=check:esetVis.install-out.txt --library=C:\Users\biocbuild\bbs-3.13-bioc\R\library --no-vignettes --timings esetVis_1.18.0.tar.gz StartedAt: 2021-10-14 22:55:29 -0400 (Thu, 14 Oct 2021) EndedAt: 2021-10-14 23:00:09 -0400 (Thu, 14 Oct 2021) EllapsedTime: 279.2 seconds RetCode: 0 Status: OK CheckDir: esetVis.Rcheck Warnings: 0