Package: eudysbiome Version: 1.22.0 Command: rm -rf eudysbiome.buildbin-libdir && mkdir eudysbiome.buildbin-libdir && C:\Users\biocbuild\bbs-3.13-bioc\R\bin\R.exe CMD INSTALL --merge-multiarch --build --library=eudysbiome.buildbin-libdir eudysbiome_1.22.0.tar.gz StartedAt: 2021-10-15 09:12:40 -0400 (Fri, 15 Oct 2021) EndedAt: 2021-10-15 09:13:46 -0400 (Fri, 15 Oct 2021) EllapsedTime: 65.9 seconds RetCode: 0 Status: OK PackageFile: eudysbiome_1.22.0.zip PackageFileSize: 4.33 MiB