Package: evaluomeR Version: 1.8.0 Command: /Library/Frameworks/R.framework/Versions/Current/Resources/bin/R CMD build --keep-empty-dirs --no-resave-data evaluomeR StartedAt: 2021-10-14 11:59:36 -0400 (Thu, 14 Oct 2021) EndedAt: 2021-10-14 12:00:51 -0400 (Thu, 14 Oct 2021) EllapsedTime: 75.5 seconds RetCode: 0 Status: OK PackageFile: evaluomeR_1.8.0.tar.gz PackageFileSize: 806.2 KiB