Package: evaluomeR Version: 1.8.0 Command: /home/biocbuild/bbs-3.13-bioc/R/bin/R CMD check --install=check:evaluomeR.install-out.txt --library=/home/biocbuild/bbs-3.13-bioc/R/library --no-vignettes --timings evaluomeR_1.8.0.tar.gz StartedAt: 2021-10-14 09:46:33 -0400 (Thu, 14 Oct 2021) EndedAt: 2021-10-14 09:49:57 -0400 (Thu, 14 Oct 2021) EllapsedTime: 203.9 seconds RetCode: 0 Status: OK CheckDir: evaluomeR.Rcheck Warnings: 0