Package: exomePeak2 Version: 1.4.2 Command: /Library/Frameworks/R.framework/Versions/Current/Resources/bin/R CMD INSTALL exomePeak2 StartedAt: 2021-10-14 10:01:50 -0400 (Thu, 14 Oct 2021) EndedAt: 2021-10-14 10:02:49 -0400 (Thu, 14 Oct 2021) EllapsedTime: 58.7 seconds RetCode: 0 Status: OK