Package: exomePeak2 Version: 1.4.2 Command: rm -rf exomePeak2.buildbin-libdir && mkdir exomePeak2.buildbin-libdir && C:\Users\biocbuild\bbs-3.13-bioc\R\bin\R.exe CMD INSTALL --merge-multiarch --build --library=exomePeak2.buildbin-libdir exomePeak2_1.4.2.tar.gz StartedAt: 2021-10-15 09:13:30 -0400 (Fri, 15 Oct 2021) EndedAt: 2021-10-15 09:15:33 -0400 (Fri, 15 Oct 2021) EllapsedTime: 123.0 seconds RetCode: 0 Status: OK PackageFile: exomePeak2_1.4.2.zip PackageFileSize: 2.723 MiB