Package: exomePeak2 Version: 1.4.2 Command: C:\cygwin\bin\curl.exe -O http://155.52.207.165/BBS/3.13/bioc/src/contrib/exomePeak2_1.4.2.tar.gz && rm -rf exomePeak2.buildbin-libdir && mkdir exomePeak2.buildbin-libdir && C:\Users\biocbuild\bbs-3.13-bioc\R\bin\R.exe CMD INSTALL --merge-multiarch --build --library=exomePeak2.buildbin-libdir exomePeak2_1.4.2.tar.gz && C:\Users\biocbuild\bbs-3.13-bioc\R\bin\R.exe CMD INSTALL exomePeak2_1.4.2.zip && rm exomePeak2_1.4.2.tar.gz exomePeak2_1.4.2.zip StartedAt: 2021-10-14 10:30:44 -0400 (Thu, 14 Oct 2021) EndedAt: 2021-10-14 10:32:21 -0400 (Thu, 14 Oct 2021) EllapsedTime: 97.5 seconds RetCode: 0 Status: OK