Package: fCCAC Version: 1.18.0 Command: rm -rf fCCAC.buildbin-libdir && mkdir fCCAC.buildbin-libdir && /Users/biocbuild/BBS/utils/build-universal.sh fCCAC_1.18.0.tar.gz /Library/Frameworks/R.framework/Versions/Current/Resources/bin/R fCCAC.buildbin-libdir StartedAt: 2021-10-15 02:22:49 -0400 (Fri, 15 Oct 2021) EndedAt: 2021-10-15 02:23:58 -0400 (Fri, 15 Oct 2021) EllapsedTime: 69.3 seconds RetCode: 0 Status: OK PackageFile: fCCAC_1.18.0.tgz PackageFileSize: 3.522 MiB