Package: fCCAC Version: 1.18.0 Command: /Library/Frameworks/R.framework/Versions/Current/Resources/bin/R CMD check --install=check:fCCAC.install-out.txt --library=/Library/Frameworks/R.framework/Versions/Current/Resources/library --no-vignettes --timings fCCAC_1.18.0.tar.gz StartedAt: 2021-10-14 18:59:17 -0400 (Thu, 14 Oct 2021) EndedAt: 2021-10-14 19:04:34 -0400 (Thu, 14 Oct 2021) EllapsedTime: 316.9 seconds RetCode: 0 Status: OK CheckDir: fCCAC.Rcheck Warnings: 0