Package: fcoex Version: 1.6.0 Command: /home/biocbuild/bbs-3.13-bioc/R/bin/R CMD check --install=check:fcoex.install-out.txt --library=/home/biocbuild/bbs-3.13-bioc/R/library --no-vignettes --timings fcoex_1.6.0.tar.gz StartedAt: 2021-10-14 09:49:34 -0400 (Thu, 14 Oct 2021) EndedAt: 2021-10-14 09:53:57 -0400 (Thu, 14 Oct 2021) EllapsedTime: 263.2 seconds RetCode: 0 Status: WARNINGS CheckDir: fcoex.Rcheck Warnings: 2