Package: fedup Version: 1.0.0 Command: rm -rf fedup.buildbin-libdir && mkdir fedup.buildbin-libdir && /Users/biocbuild/BBS/utils/build-universal.sh fedup_1.0.0.tar.gz /Library/Frameworks/R.framework/Versions/Current/Resources/bin/R fedup.buildbin-libdir StartedAt: 2021-10-15 02:23:21 -0400 (Fri, 15 Oct 2021) EndedAt: 2021-10-15 02:24:30 -0400 (Fri, 15 Oct 2021) EllapsedTime: 69.1 seconds RetCode: 0 Status: OK PackageFile: fedup_1.0.0.tgz PackageFileSize: 4.092 MiB