Package: fedup Version: 1.0.0 Command: /home/biocbuild/bbs-3.13-bioc/R/bin/R CMD check --install=check:fedup.install-out.txt --library=/home/biocbuild/bbs-3.13-bioc/R/library --no-vignettes --timings fedup_1.0.0.tar.gz StartedAt: 2021-10-14 09:49:58 -0400 (Thu, 14 Oct 2021) EndedAt: 2021-10-14 09:52:38 -0400 (Thu, 14 Oct 2021) EllapsedTime: 160.5 seconds RetCode: 0 Status: OK CheckDir: fedup.Rcheck Warnings: 0