Package: fgsea Version: 1.18.0 Command: /Library/Frameworks/R.framework/Versions/Current/Resources/bin/R CMD build --keep-empty-dirs --no-resave-data fgsea StartedAt: 2021-10-14 12:03:56 -0400 (Thu, 14 Oct 2021) EndedAt: 2021-10-14 12:05:26 -0400 (Thu, 14 Oct 2021) EllapsedTime: 90.2 seconds RetCode: 0 Status: OK PackageFile: fgsea_1.18.0.tar.gz PackageFileSize: 1.202 MiB