Package: fishpond Version: 1.8.0 Command: /home/biocbuild/bbs-3.13-bioc/R/bin/R CMD build --keep-empty-dirs --no-resave-data fishpond StartedAt: 2021-10-14 07:16:17 -0400 (Thu, 14 Oct 2021) EndedAt: 2021-10-14 07:19:03 -0400 (Thu, 14 Oct 2021) EllapsedTime: 166.6 seconds RetCode: 0 Status: OK PackageFile: fishpond_1.8.0.tar.gz PackageFileSize: 2.011 MiB