Package: fishpond Version: 1.8.0 Command: /home/biocbuild/bbs-3.13-bioc/R/bin/R CMD INSTALL fishpond StartedAt: 2021-10-14 06:13:08 -0400 (Thu, 14 Oct 2021) EndedAt: 2021-10-14 06:13:30 -0400 (Thu, 14 Oct 2021) EllapsedTime: 22.2 seconds RetCode: 0 Status: OK