Package: flagme Version: 1.48.0 Command: rm -rf flagme.buildbin-libdir && mkdir flagme.buildbin-libdir && /Users/biocbuild/BBS/utils/build-universal.sh flagme_1.48.0.tar.gz /Library/Frameworks/R.framework/Versions/Current/Resources/bin/R flagme.buildbin-libdir StartedAt: 2021-10-15 02:24:19 -0400 (Fri, 15 Oct 2021) EndedAt: 2021-10-15 02:25:25 -0400 (Fri, 15 Oct 2021) EllapsedTime: 65.1 seconds RetCode: 0 Status: OK PackageFile: flagme_1.48.0.tgz PackageFileSize: 902.8 KiB