Package: flagme Version: 1.48.0 Command: chmod a+r flagme -R && C:\Users\biocbuild\bbs-3.13-bioc\R\bin\R.exe CMD build --keep-empty-dirs --no-resave-data flagme StartedAt: 2021-10-14 14:09:49 -0400 (Thu, 14 Oct 2021) EndedAt: 2021-10-14 14:12:37 -0400 (Thu, 14 Oct 2021) EllapsedTime: 167.8 seconds RetCode: 0 Status: OK PackageFile: flagme_1.48.0.tar.gz PackageFileSize: 431.2 KiB