git_url: https://git.bioconductor.org/packages/flowCHIC git_branch: RELEASE_3_13 git_last_commit: 16676cf git_last_commit_date: 2021-05-19 12:08:46 -0400 (Wed, 19 May 2021) Package: flowCHIC Version: 1.26.0 Maintainer: Author: Joachim Schumann MaintainerEmail: joachim.schumann at ufz.de