Package: flowCL Version: 1.30.0 Command: /Library/Frameworks/R.framework/Versions/Current/Resources/bin/R CMD check --install=check:flowCL.install-out.txt --library=/Library/Frameworks/R.framework/Versions/Current/Resources/library --no-vignettes --timings flowCL_1.30.0.tar.gz StartedAt: 2021-10-14 19:06:04 -0400 (Thu, 14 Oct 2021) EndedAt: 2021-10-14 19:07:04 -0400 (Thu, 14 Oct 2021) EllapsedTime: 60.0 seconds RetCode: 0 Status: OK CheckDir: flowCL.Rcheck Warnings: 0