Package: flowCL Version: 1.30.0 Command: /home/biocbuild/bbs-3.13-bioc/R/bin/R CMD build --keep-empty-dirs --no-resave-data flowCL StartedAt: 2021-10-14 07:16:36 -0400 (Thu, 14 Oct 2021) EndedAt: 2021-10-14 07:16:43 -0400 (Thu, 14 Oct 2021) EllapsedTime: 6.8 seconds RetCode: 0 Status: OK PackageFile: flowCL_1.30.0.tar.gz PackageFileSize: 225 KiB