Package: flowCL Version: 1.30.0 Command: /home/biocbuild/bbs-3.13-bioc/R/bin/R CMD INSTALL flowCL StartedAt: 2021-10-14 06:07:36 -0400 (Thu, 14 Oct 2021) EndedAt: 2021-10-14 06:07:41 -0400 (Thu, 14 Oct 2021) EllapsedTime: 5.2 seconds RetCode: 0 Status: OK