Package: flowCL Version: 1.30.0 Command: chmod a+r flowCL -R && C:\Users\biocbuild\bbs-3.13-bioc\R\bin\R.exe CMD build --keep-empty-dirs --no-resave-data flowCL StartedAt: 2021-10-14 14:10:50 -0400 (Thu, 14 Oct 2021) EndedAt: 2021-10-14 14:11:29 -0400 (Thu, 14 Oct 2021) EllapsedTime: 39.3 seconds RetCode: 0 Status: OK PackageFile: flowCL_1.30.0.tar.gz PackageFileSize: 225.2 KiB