git_url: https://git.bioconductor.org/packages/flowDensity git_branch: RELEASE_3_13 git_last_commit: 6559b9f git_last_commit_date: 2021-05-19 12:05:46 -0400 (Wed, 19 May 2021) Package: flowDensity Version: 1.26.0 Maintainer: Mehrnoush Malek MaintainerEmail: mmalekes at bccrc.ca