Package: flowFP Version: 1.50.0 Command: rm -rf flowFP.buildbin-libdir && mkdir flowFP.buildbin-libdir && /Users/biocbuild/BBS/utils/build-universal.sh flowFP_1.50.0.tar.gz /Library/Frameworks/R.framework/Versions/Current/Resources/bin/R flowFP.buildbin-libdir StartedAt: 2021-10-15 02:25:30 -0400 (Fri, 15 Oct 2021) EndedAt: 2021-10-15 02:26:29 -0400 (Fri, 15 Oct 2021) EllapsedTime: 59.5 seconds RetCode: 0 Status: OK PackageFile: flowFP_1.50.0.tgz PackageFileSize: 5.572 MiB