Package: flowFP Version: 1.50.0 Command: C:\Users\biocbuild\bbs-3.13-bioc\R\bin\R.exe CMD check --force-multiarch --install=check:flowFP.install-out.txt --library=C:\Users\biocbuild\bbs-3.13-bioc\R\library --no-vignettes --timings flowFP_1.50.0.tar.gz StartedAt: 2021-10-14 23:14:05 -0400 (Thu, 14 Oct 2021) EndedAt: 2021-10-14 23:16:36 -0400 (Thu, 14 Oct 2021) EllapsedTime: 150.7 seconds RetCode: 0 Status: OK CheckDir: flowFP.Rcheck Warnings: 0