git_url: https://git.bioconductor.org/packages/flowMerge git_branch: RELEASE_3_13 git_last_commit: beb6e37 git_last_commit_date: 2021-05-19 11:43:25 -0400 (Wed, 19 May 2021) Package: flowMerge Version: 2.40.0 Maintainer: Greg Finak MaintainerEmail: gfinak at fhcrc.org