Package: flowMerge Version: 2.40.0 Command: /Library/Frameworks/R.framework/Versions/Current/Resources/bin/R CMD build --keep-empty-dirs --no-resave-data flowMerge StartedAt: 2021-10-14 12:06:57 -0400 (Thu, 14 Oct 2021) EndedAt: 2021-10-14 12:08:15 -0400 (Thu, 14 Oct 2021) EllapsedTime: 78.0 seconds RetCode: 0 Status: OK PackageFile: flowMerge_2.40.0.tar.gz PackageFileSize: 560.8 KiB