Package: flowSpecs Version: 1.6.0 Command: /Library/Frameworks/R.framework/Versions/Current/Resources/bin/R CMD INSTALL flowSpecs StartedAt: 2021-10-14 08:51:30 -0400 (Thu, 14 Oct 2021) EndedAt: 2021-10-14 08:52:23 -0400 (Thu, 14 Oct 2021) EllapsedTime: 53.0 seconds RetCode: 0 Status: OK