Package: flowStats Version: 4.4.0 Command: /home/biocbuild/bbs-3.13-bioc/R/bin/R CMD build --keep-empty-dirs --no-resave-data flowStats StartedAt: 2021-10-14 07:17:27 -0400 (Thu, 14 Oct 2021) EndedAt: 2021-10-14 07:18:42 -0400 (Thu, 14 Oct 2021) EllapsedTime: 75.3 seconds RetCode: 0 Status: OK PackageFile: flowStats_4.4.0.tar.gz PackageFileSize: 11.03 MiB