Package: flowStats Version: 4.4.0 Command: rm -rf flowStats.buildbin-libdir && mkdir flowStats.buildbin-libdir && C:\Users\biocbuild\bbs-3.13-bioc\R\bin\R.exe CMD INSTALL --merge-multiarch --build --library=flowStats.buildbin-libdir flowStats_4.4.0.tar.gz StartedAt: 2021-10-15 09:22:03 -0400 (Fri, 15 Oct 2021) EndedAt: 2021-10-15 09:23:38 -0400 (Fri, 15 Oct 2021) EllapsedTime: 94.4 seconds RetCode: 0 Status: OK PackageFile: flowStats_4.4.0.zip PackageFileSize: 11.79 MiB