Package: flowStats Version: 4.4.0 Command: chmod a+r flowStats -R && C:\Users\biocbuild\bbs-3.13-bioc\R\bin\R.exe CMD build --keep-empty-dirs --no-resave-data flowStats StartedAt: 2021-10-14 14:14:52 -0400 (Thu, 14 Oct 2021) EndedAt: 2021-10-14 14:16:39 -0400 (Thu, 14 Oct 2021) EllapsedTime: 106.4 seconds RetCode: 0 Status: OK PackageFile: flowStats_4.4.0.tar.gz PackageFileSize: 11.04 MiB