Package: flowTime Version: 1.16.1 Command: rm -rf flowTime.buildbin-libdir && mkdir flowTime.buildbin-libdir && /Users/biocbuild/BBS/utils/build-universal.sh flowTime_1.16.1.tar.gz /Library/Frameworks/R.framework/Versions/Current/Resources/bin/R flowTime.buildbin-libdir StartedAt: 2021-10-15 02:26:35 -0400 (Fri, 15 Oct 2021) EndedAt: 2021-10-15 02:27:46 -0400 (Fri, 15 Oct 2021) EllapsedTime: 70.8 seconds RetCode: 0 Status: OK PackageFile: flowTime_1.16.1.tgz PackageFileSize: 2.412 MiB