Package: flowTime Version: 1.16.1 Command: /Library/Frameworks/R.framework/Versions/Current/Resources/bin/R CMD build --keep-empty-dirs --no-resave-data flowTime StartedAt: 2021-10-14 12:08:10 -0400 (Thu, 14 Oct 2021) EndedAt: 2021-10-14 12:09:16 -0400 (Thu, 14 Oct 2021) EllapsedTime: 66.1 seconds RetCode: 0 Status: OK PackageFile: flowTime_1.16.1.tar.gz PackageFileSize: 2.333 MiB