Package: flowTime Version: 1.16.1 Command: /Library/Frameworks/R.framework/Versions/Current/Resources/bin/R CMD INSTALL flowTime StartedAt: 2021-10-14 08:45:59 -0400 (Thu, 14 Oct 2021) EndedAt: 2021-10-14 08:46:57 -0400 (Thu, 14 Oct 2021) EllapsedTime: 57.4 seconds RetCode: 0 Status: OK