Package: flowTime Version: 1.16.1 Command: /home/biocbuild/bbs-3.13-bioc/R/bin/R CMD build --keep-empty-dirs --no-resave-data flowTime StartedAt: 2021-10-14 07:17:29 -0400 (Thu, 14 Oct 2021) EndedAt: 2021-10-14 07:17:56 -0400 (Thu, 14 Oct 2021) EllapsedTime: 27.1 seconds RetCode: 0 Status: OK PackageFile: flowTime_1.16.1.tar.gz PackageFileSize: 2.336 MiB