Package: flowTime Version: 1.16.1 Command: /home/biocbuild/bbs-3.13-bioc/R/bin/R CMD check --install=check:flowTime.install-out.txt --library=/home/biocbuild/bbs-3.13-bioc/R/library --no-vignettes --timings flowTime_1.16.1.tar.gz StartedAt: 2021-10-14 09:53:06 -0400 (Thu, 14 Oct 2021) EndedAt: 2021-10-14 09:54:01 -0400 (Thu, 14 Oct 2021) EllapsedTime: 55.3 seconds RetCode: 0 Status: OK CheckDir: flowTime.Rcheck Warnings: 0