Package: flowTime Version: 1.16.1 Command: /home/biocbuild/bbs-3.13-bioc/R/bin/R CMD INSTALL flowTime StartedAt: 2021-10-14 06:15:16 -0400 (Thu, 14 Oct 2021) EndedAt: 2021-10-14 06:15:23 -0400 (Thu, 14 Oct 2021) EllapsedTime: 6.5 seconds RetCode: 0 Status: OK