Package: flowTrans Version: 1.44.0 Command: rm -rf flowTrans.buildbin-libdir && mkdir flowTrans.buildbin-libdir && C:\Users\biocbuild\bbs-3.13-bioc\R\bin\R.exe CMD INSTALL --merge-multiarch --build --library=flowTrans.buildbin-libdir flowTrans_1.44.0.tar.gz StartedAt: 2021-10-15 09:22:20 -0400 (Fri, 15 Oct 2021) EndedAt: 2021-10-15 09:23:57 -0400 (Fri, 15 Oct 2021) EllapsedTime: 97.0 seconds RetCode: 0 Status: OK PackageFile: flowTrans_1.44.0.zip PackageFileSize: 491.5 KiB