Package: flowVS Version: 1.24.0 Command: /Library/Frameworks/R.framework/Versions/Current/Resources/bin/R CMD check --install=check:flowVS.install-out.txt --library=/Library/Frameworks/R.framework/Versions/Current/Resources/library --no-vignettes --timings flowVS_1.24.0.tar.gz StartedAt: 2021-10-14 19:10:11 -0400 (Thu, 14 Oct 2021) EndedAt: 2021-10-14 19:12:51 -0400 (Thu, 14 Oct 2021) EllapsedTime: 159.7 seconds RetCode: 0 Status: OK CheckDir: flowVS.Rcheck Warnings: 0