Package: flowVS Version: 1.24.0 Command: /Library/Frameworks/R.framework/Versions/Current/Resources/bin/R CMD INSTALL flowVS StartedAt: 2021-10-14 10:23:10 -0400 (Thu, 14 Oct 2021) EndedAt: 2021-10-14 10:23:55 -0400 (Thu, 14 Oct 2021) EllapsedTime: 45.1 seconds RetCode: 0 Status: OK