Package: flowVS Version: 1.24.0 Command: rm -rf flowVS.buildbin-libdir && mkdir flowVS.buildbin-libdir && C:\Users\biocbuild\bbs-3.13-bioc\R\bin\R.exe CMD INSTALL --merge-multiarch --build --library=flowVS.buildbin-libdir flowVS_1.24.0.tar.gz StartedAt: 2021-10-15 09:22:45 -0400 (Fri, 15 Oct 2021) EndedAt: 2021-10-15 09:24:21 -0400 (Fri, 15 Oct 2021) EllapsedTime: 95.9 seconds RetCode: 0 Status: OK PackageFile: flowVS_1.24.0.zip PackageFileSize: 3.589 MiB