Package: flowVS Version: 1.24.0 Command: C:\cygwin\bin\curl.exe -O http://155.52.207.165/BBS/3.13/bioc/src/contrib/flowVS_1.24.0.tar.gz && rm -rf flowVS.buildbin-libdir && mkdir flowVS.buildbin-libdir && C:\Users\biocbuild\bbs-3.13-bioc\R\bin\R.exe CMD INSTALL --merge-multiarch --build --library=flowVS.buildbin-libdir flowVS_1.24.0.tar.gz && C:\Users\biocbuild\bbs-3.13-bioc\R\bin\R.exe CMD INSTALL flowVS_1.24.0.zip && rm flowVS_1.24.0.tar.gz flowVS_1.24.0.zip StartedAt: 2021-10-14 11:16:48 -0400 (Thu, 14 Oct 2021) EndedAt: 2021-10-14 11:18:02 -0400 (Thu, 14 Oct 2021) EllapsedTime: 74.4 seconds RetCode: 0 Status: OK