Package: flowcatchR Version: 1.26.0 Command: rm -rf flowcatchR.buildbin-libdir && mkdir flowcatchR.buildbin-libdir && C:\Users\biocbuild\bbs-3.13-bioc\R\bin\R.exe CMD INSTALL --merge-multiarch --build --library=flowcatchR.buildbin-libdir flowcatchR_1.26.0.tar.gz StartedAt: 2021-10-15 09:19:07 -0400 (Fri, 15 Oct 2021) EndedAt: 2021-10-15 09:20:44 -0400 (Fri, 15 Oct 2021) EllapsedTime: 97.1 seconds RetCode: 0 Status: OK PackageFile: flowcatchR_1.26.0.zip PackageFileSize: 7.684 MiB