Package: flowcatchR Version: 1.26.0 Command: chmod a+r flowcatchR -R && C:\Users\biocbuild\bbs-3.13-bioc\R\bin\R.exe CMD build --keep-empty-dirs --no-resave-data flowcatchR StartedAt: 2021-10-14 14:10:25 -0400 (Thu, 14 Oct 2021) EndedAt: 2021-10-14 14:13:44 -0400 (Thu, 14 Oct 2021) EllapsedTime: 198.9 seconds RetCode: 0 Status: OK PackageFile: flowcatchR_1.26.0.tar.gz PackageFileSize: 6.738 MiB