git_url: https://git.bioconductor.org/packages/fmcsR git_branch: RELEASE_3_13 git_last_commit: 9440089 git_last_commit_date: 2021-05-19 11:53:39 -0400 (Wed, 19 May 2021) Package: fmcsR Version: 1.34.0 Maintainer: Thomas Girke MaintainerEmail: thomas.girke at ucr.edu