Package: fmcsR Version: 1.34.0 Command: /Library/Frameworks/R.framework/Versions/Current/Resources/bin/R CMD build --keep-empty-dirs --no-resave-data fmcsR StartedAt: 2021-10-14 12:08:42 -0400 (Thu, 14 Oct 2021) EndedAt: 2021-10-14 12:09:37 -0400 (Thu, 14 Oct 2021) EllapsedTime: 54.9 seconds RetCode: 0 Status: OK PackageFile: fmcsR_1.34.0.tar.gz PackageFileSize: 741.2 KiB