Package: fmcsR Version: 1.34.0 Command: /Library/Frameworks/R.framework/Versions/Current/Resources/bin/R CMD check --install=check:fmcsR.install-out.txt --library=/Library/Frameworks/R.framework/Versions/Current/Resources/library --no-vignettes --timings fmcsR_1.34.0.tar.gz StartedAt: 2021-10-14 19:10:22 -0400 (Thu, 14 Oct 2021) EndedAt: 2021-10-14 19:11:43 -0400 (Thu, 14 Oct 2021) EllapsedTime: 81.6 seconds RetCode: 0 Status: WARNINGS CheckDir: fmcsR.Rcheck Warnings: 1