Package: fmcsR Version: 1.34.0 Command: /home/biocbuild/bbs-3.13-bioc/R/bin/R CMD build --keep-empty-dirs --no-resave-data fmcsR StartedAt: 2021-10-14 07:17:40 -0400 (Thu, 14 Oct 2021) EndedAt: 2021-10-14 07:18:15 -0400 (Thu, 14 Oct 2021) EllapsedTime: 34.9 seconds RetCode: 0 Status: OK PackageFile: fmcsR_1.34.0.tar.gz PackageFileSize: 746 KiB