Package: fmcsR Version: 1.34.0 Command: /home/biocbuild/bbs-3.13-bioc/R/bin/R CMD INSTALL fmcsR StartedAt: 2021-10-14 06:11:14 -0400 (Thu, 14 Oct 2021) EndedAt: 2021-10-14 06:11:30 -0400 (Thu, 14 Oct 2021) EllapsedTime: 15.6 seconds RetCode: 0 Status: OK